BEGIN:VCALENDAR
VERSION:2.0
PRODID:-//AAMM - ECPv6.10.2//NONSGML v1.0//EN
CALSCALE:GREGORIAN
METHOD:PUBLISH
X-WR-CALNAME:AAMM
X-ORIGINAL-URL:https://staging.aamm.at
X-WR-CALDESC:Veranstaltungen für AAMM
REFRESH-INTERVAL;VALUE=DURATION:PT1H
X-Robots-Tag:noindex
X-PUBLISHED-TTL:PT1H
BEGIN:VTIMEZONE
TZID:Europe/Vienna
BEGIN:DAYLIGHT
TZOFFSETFROM:+0100
TZOFFSETTO:+0200
TZNAME:CEST
DTSTART:20260329T010000
END:DAYLIGHT
BEGIN:STANDARD
TZOFFSETFROM:+0200
TZOFFSETTO:+0100
TZNAME:CET
DTSTART:20261025T010000
END:STANDARD
END:VTIMEZONE
BEGIN:VEVENT
DTSTART;TZID=Europe/Vienna:20260612T000000
DTEND;TZID=Europe/Vienna:20260614T235959
DTSTAMP:20260419T171711
CREATED:20250406T131609Z
LAST-MODIFIED:20250406T131617Z
UID:10000104-1781222400-1781481599@staging.aamm.at
SUMMARY:Kurs 1 / Bad Häring
DESCRIPTION:In diesem Kurs erlernen Sie unspezifische und sichere diagnostische und therapeutische Techniken zum erkennen von funktionellen Störungen an der Wirbelsäule. Außerdem werden Ihnen die notwendigen anatomischen und Neurophysiologischen Grundlagen vermittelt. Ab der ersten Stunde versuchen wir Praxis orientiert auch die theoretischen Inhalte zu vermitteln. Es werden die Techniken auch gleich gegenseitig geübt daher sollten Sie bei auf lockere sportliche Bekleidung achten.
URL:https://staging.aamm.at/event/kurs-1-bad-haering-2/
LOCATION:Bad Häring AUVA Rehazentrum\, Rehaweg 1\, Bad Häring\, 6323\, Österreich
END:VEVENT
BEGIN:VEVENT
DTSTART;TZID=Europe/Vienna:20261002T000000
DTEND;TZID=Europe/Vienna:20261004T235959
DTSTAMP:20260419T171711
CREATED:20250406T132005Z
LAST-MODIFIED:20250406T142007Z
UID:10000105-1790899200-1791158399@staging.aamm.at
SUMMARY:Kurs 2 / Bad Häring
DESCRIPTION:In diesem Kurs erlernen Sie spezifische Techniken zur Behandlung der gesamten Wirbelsäule. Speziell Diagnostik und Therapie Pseudoradikulärer Symptome. Besonderes Augenmerk wird auf die funktionell Zusammenhänge und die zu Grunde liegenden Mechanismen gelegt.
URL:https://staging.aamm.at/event/kurs-2-bad-haering-2/
LOCATION:Bad Häring AUVA Rehazentrum\, Rehaweg 1\, Bad Häring\, 6323\, Österreich
END:VEVENT
END:VCALENDAR