BEGIN:VCALENDAR
VERSION:2.0
PRODID:-//AAMM - ECPv6.10.2//NONSGML v1.0//EN
CALSCALE:GREGORIAN
METHOD:PUBLISH
X-ORIGINAL-URL:https://staging.aamm.at
X-WR-CALDESC:Veranstaltungen für AAMM
REFRESH-INTERVAL;VALUE=DURATION:PT1H
X-Robots-Tag:noindex
X-PUBLISHED-TTL:PT1H
BEGIN:VTIMEZONE
TZID:Europe/Vienna
BEGIN:DAYLIGHT
TZOFFSETFROM:+0100
TZOFFSETTO:+0200
TZNAME:CEST
DTSTART:20260329T010000
END:DAYLIGHT
BEGIN:STANDARD
TZOFFSETFROM:+0200
TZOFFSETTO:+0100
TZNAME:CET
DTSTART:20261025T010000
END:STANDARD
END:VTIMEZONE
BEGIN:VEVENT
DTSTART;TZID=Europe/Vienna:20260509T090000
DTEND;TZID=Europe/Vienna:20260509T160000
DTSTAMP:20260419T171543
CREATED:20250406T124322Z
LAST-MODIFIED:20250406T124329Z
UID:10000099-1778317200-1778342400@staging.aamm.at
SUMMARY:Kinesiotaping für Ärzte
DESCRIPTION:Die Inhalte dieser Fortbildung sollen Theorie und Praxis des Kinesiotaping vermitteln. Auf die Grundtechniken wie toniserende und detonisierende Muskeltechniken\, Ligament-\, Lymph- und Faszientechniken bzw. Positionskorrekturtaping wird in Form eines Vortrages eingegangen und im Anschluss im praktischen Teil von jedem Kursanten umgesetzt. Zusätzlich werden bewährte Kombinationsbehandlungen mit Manual Medizinischen Techniken abgehandelt.
URL:https://staging.aamm.at/event/kinesiotaping-fuer-aerzte-5/
LOCATION:Klagenfurt-FBZ\, Waaggasse 18\, Klagenfurt\, Kärnten\, 9020\, Österreich
END:VEVENT
BEGIN:VEVENT
DTSTART;TZID=Europe/Vienna:20260525T000000
DTEND;TZID=Europe/Vienna:20260531T235959
DTSTAMP:20260419T171543
CREATED:20250406T125011Z
LAST-MODIFIED:20250406T125021Z
UID:10000100-1779667200-1780271999@staging.aamm.at
SUMMARY:Kurs 3 / Klagenfurt
DESCRIPTION:In diesem Kurs erlernen Sie die Behandlung der oberen und unteren Extremitäten Gelenke. Regionen spezifische Schmerzphänomene werden besprochen. Zusätzlich sind die Segmentalen und funktionellen Zusammenhänge im gesamten Bewegungssystem erörtert deren Verständnis zur Rezidivprophylaxe notwendig ist.
URL:https://staging.aamm.at/event/kurs-3-klagenfurt-2/
LOCATION:Klagenfurt-FBZ\, Waaggasse 18\, Klagenfurt\, Kärnten\, 9020\, Österreich
END:VEVENT
END:VCALENDAR