BEGIN:VCALENDAR
VERSION:2.0
PRODID:-//AAMM - ECPv6.10.2//NONSGML v1.0//EN
CALSCALE:GREGORIAN
METHOD:PUBLISH
X-ORIGINAL-URL:https://staging.aamm.at
X-WR-CALDESC:Veranstaltungen für AAMM
REFRESH-INTERVAL;VALUE=DURATION:PT1H
X-Robots-Tag:noindex
X-PUBLISHED-TTL:PT1H
BEGIN:VTIMEZONE
TZID:Europe/Vienna
BEGIN:DAYLIGHT
TZOFFSETFROM:+0100
TZOFFSETTO:+0200
TZNAME:CEST
DTSTART:20260329T010000
END:DAYLIGHT
BEGIN:STANDARD
TZOFFSETFROM:+0200
TZOFFSETTO:+0100
TZNAME:CET
DTSTART:20261025T010000
END:STANDARD
END:VTIMEZONE
BEGIN:VEVENT
DTSTART;TZID=Europe/Vienna:20260124T000000
DTEND;TZID=Europe/Vienna:20260130T235959
DTSTAMP:20260419T201955
CREATED:20250405T100215Z
LAST-MODIFIED:20250406T105932Z
UID:10000088-1769212800-1769817599@staging.aamm.at
SUMMARY:Kurs 2 / Graz
DESCRIPTION:In diesem Kurs erlernen Sie spezifische Techniken zur Behandlung der gesamten Wirbelsäule. Speziell Diagnostik und Therapie Pseudoradikulärer Symptome. Besonderes Augenmerk wird auf die funktionell Zusammenhänge und die zu Grunde liegenden Mechanismen gelegt.
URL:https://staging.aamm.at/event/kurs-2-graz-3/
LOCATION:Graz-Hotel Bokan\, Mainersbergstraße 1\, Graz\, 8051\, Österreich
END:VEVENT
BEGIN:VEVENT
DTSTART;TZID=Europe/Vienna:20260131T000000
DTEND;TZID=Europe/Vienna:20260206T235959
DTSTAMP:20260419T201955
CREATED:20250406T111512Z
LAST-MODIFIED:20250702T145240Z
UID:10000089-1769817600-1770422399@staging.aamm.at
SUMMARY:Kurs 4 / Graz
DESCRIPTION:Abrundung der bisherigen Behandlungskonzepte durch erlernen von myofascialen Techniken. Einblick in die viszerale Osteopathie und Manuelle Medizin bei Kindern. Erlernen von Grundlagen zur Behandlung der Cranio Mandibulären Dysfunktion (CMD) und Vermittlung ihrer Bedeutung für das gesamte Bewegungssystem.
URL:https://staging.aamm.at/event/kurs-4-graz-3/
LOCATION:Graz-Hotel Bokan\, Mainersbergstraße 1\, Graz\, 8051\, Österreich
END:VEVENT
END:VCALENDAR