BEGIN:VCALENDAR
VERSION:2.0
PRODID:-//AAMM - ECPv6.10.2//NONSGML v1.0//EN
CALSCALE:GREGORIAN
METHOD:PUBLISH
X-WR-CALNAME:AAMM
X-ORIGINAL-URL:https://staging.aamm.at
X-WR-CALDESC:Veranstaltungen für AAMM
REFRESH-INTERVAL;VALUE=DURATION:PT1H
X-Robots-Tag:noindex
X-PUBLISHED-TTL:PT1H
BEGIN:VTIMEZONE
TZID:Europe/Vienna
BEGIN:DAYLIGHT
TZOFFSETFROM:+0100
TZOFFSETTO:+0200
TZNAME:CEST
DTSTART:20250330T010000
END:DAYLIGHT
BEGIN:STANDARD
TZOFFSETFROM:+0200
TZOFFSETTO:+0100
TZNAME:CET
DTSTART:20251026T010000
END:STANDARD
END:VTIMEZONE
BEGIN:VEVENT
DTSTART;TZID=Europe/Vienna:20251108T000000
DTEND;TZID=Europe/Vienna:20251114T235959
DTSTAMP:20260419T233846
CREATED:20240911T114037Z
LAST-MODIFIED:20250130T095531Z
UID:10000065-1762560000-1763164799@staging.aamm.at
SUMMARY:Kurs 1 / Graz
DESCRIPTION:In diesem Kurs erlernen Sie unspezifische und sichere diagnostische und therapeutische Techniken zum erkennen von funktionellen Störungen an der Wirbelsäule. Außerdem werden Ihnen die notwendigen anatomischen und Neurophysiologischen Grundlagen vermittelt. Ab der ersten Stunde versuchen wir Praxis orientiert auch die theoretischen Inhalte zu vermitteln. Es werden die Techniken auch gleich gegenseitig geübt daher sollten Sie bei auf lockere sportliche Bekleidung achten.
URL:https://staging.aamm.at/event/kurs-1-graz-3/
LOCATION:Graz-Hotel Bokan\, Mainersbergstraße 1\, Graz\, 8051\, Österreich
END:VEVENT
BEGIN:VEVENT
DTSTART;TZID=Europe/Vienna:20251129T000000
DTEND;TZID=Europe/Vienna:20251205T235959
DTSTAMP:20260419T233846
CREATED:20240911T114419Z
LAST-MODIFIED:20241206T154601Z
UID:10000066-1764374400-1764979199@staging.aamm.at
SUMMARY:Kurs 5 / Graz
DESCRIPTION:Im Abschlusskurs werden die wesentlichen theoretischen und praktischen Fertigkeiten im klinischen Kontext wiederholt. Anhand von Fallbeispielen erlernen Sie die Erstellung von Therapiekonzepten und deren Dokumentation. Außerdem werden rechtliche Aspekte der manuellen Medizin angesprochen. Den Abschluss bildet eine praktische und mündliche Prüfung entsprechend der Diplom Ordnung der österreichischen Akademie der Ärzte.
URL:https://staging.aamm.at/event/kurs-5-graz-3/
LOCATION:Graz-Hotel Bokan\, Mainersbergstraße 1\, Graz\, 8051\, Österreich
END:VEVENT
BEGIN:VEVENT
DTSTART;TZID=Europe/Vienna:20251129T090000
DTEND;TZID=Europe/Vienna:20251129T160000
DTSTAMP:20260419T233846
CREATED:20250317T101037Z
LAST-MODIFIED:20250521T061521Z
UID:10000087-1764406800-1764432000@staging.aamm.at
SUMMARY:Kinesiotaping für Ärzte
DESCRIPTION:Die Inhalte dieser Fortbildung sollen Theorie und Praxis des Kinesiotaping vermitteln. Auf die Grundtechniken wie toniserende und detonisierende Muskeltechniken\, Ligament-\, Lymph- und Faszientechniken bzw. Positionskorrekturtaping wird in Form eines Vortrages eingegangen und im Anschluss im praktischen Teil von jedem Kursanten umgesetzt. Zusätzlich werden bewährte Kombinationsbehandlungen mit Manual Medizinischen Techniken abgehandelt. Empfehlung: Es wird empfohlen\, mindestens einen Kurs des Diploms für Manuelle Medizin bereits absolviert zu haben\, um dem Kursinhalt gut folgen zu können und bestmöglich vom Kinesiotaping-Kurs zu profitieren.
URL:https://staging.aamm.at/event/kinesiotaping-fuer-aerzte-4/
LOCATION:Klagenfurt-FBZ\, Waaggasse 18\, Klagenfurt\, Kärnten\, 9020\, Österreich
END:VEVENT
END:VCALENDAR