BEGIN:VCALENDAR
VERSION:2.0
PRODID:-//AAMM - ECPv6.10.2//NONSGML v1.0//EN
CALSCALE:GREGORIAN
METHOD:PUBLISH
X-ORIGINAL-URL:https://staging.aamm.at
X-WR-CALDESC:Veranstaltungen für AAMM
REFRESH-INTERVAL;VALUE=DURATION:PT1H
X-Robots-Tag:noindex
X-PUBLISHED-TTL:PT1H
BEGIN:VTIMEZONE
TZID:Europe/Vienna
BEGIN:DAYLIGHT
TZOFFSETFROM:+0100
TZOFFSETTO:+0200
TZNAME:CEST
DTSTART:20250330T010000
END:DAYLIGHT
BEGIN:STANDARD
TZOFFSETFROM:+0200
TZOFFSETTO:+0100
TZNAME:CET
DTSTART:20251026T010000
END:STANDARD
END:VTIMEZONE
BEGIN:VEVENT
DTSTART;TZID=Europe/Vienna:20250913T000000
DTEND;TZID=Europe/Vienna:20250919T235959
DTSTAMP:20260420T031010
CREATED:20240911T111221Z
LAST-MODIFIED:20250702T142532Z
UID:10000060-1757721600-1758326399@staging.aamm.at
SUMMARY:Kurs 4 / Graz
DESCRIPTION:Abrundung der bisherigen Behandlungskonzepte durch erlernen von myofascialen Techniken. Einblick in die viszerale Osteopathie und Manuelle Medizin bei Kindern. Erlernen von Grundlagen zur Behandlung der Cranio Mandibulären Dysfunktion (CMD) und Vermittlung ihrer Bedeutung für das gesamte Bewegungssystem.
URL:https://staging.aamm.at/event/kurs-4-graz-2/
LOCATION:Graz-Hotel Bokan\, Mainersbergstraße 1\, Graz\, 8051\, Österreich
END:VEVENT
BEGIN:VEVENT
DTSTART;TZID=Europe/Vienna:20250926T000000
DTEND;TZID=Europe/Vienna:20250928T235959
DTSTAMP:20260420T031010
CREATED:20240911T112400Z
LAST-MODIFIED:20241121T080513Z
UID:10000062-1758844800-1759103999@staging.aamm.at
SUMMARY:Kurs 3 / Wien
DESCRIPTION:In diesem Kurs erlernen Sie die Behandlung der oberen und unteren Extremitäten Gelenke. Regionen spezifische Schmerzphänomene werden besprochen. Zusätzlich sind die Segmentalen und funktionellen Zusammenhänge im gesamten Bewegungssystem erörtert deren Verständnis zur Rezidivprophylaxe notwendig ist.
URL:https://staging.aamm.at/event/kurs-3-wien-2/
LOCATION:Wien-Trinicum\, Schwarzenbergplatz 6\, Eingang Zaunergasse 1-3\, Wien\, 1030\, Österreich
END:VEVENT
BEGIN:VEVENT
DTSTART;TZID=Europe/Vienna:20250929T000000
DTEND;TZID=Europe/Vienna:20251005T235959
DTSTAMP:20260420T031010
CREATED:20240911T111636Z
LAST-MODIFIED:20250310T215130Z
UID:10000061-1759104000-1759708799@staging.aamm.at
SUMMARY:Kurs 1 / Klagenfurt
DESCRIPTION:In diesem Kurs erlernen Sie unspezifische und sichere diagnostische und therapeutische Techniken zum erkennen von funktionellen Störungen an der Wirbelsäule. Außerdem werden Ihnen die notwendigen anatomischen und Neurophysiologischen Grundlagen vermittelt. Ab der ersten Stunde versuchen wir Praxis orientiert auch die theoretischen Inhalte zu vermitteln. Es werden die Techniken auch gleich gegenseitig geübt daher sollten Sie bei auf lockere sportliche Bekleidung achten.
URL:https://staging.aamm.at/event/kurs-1-klagenfurt-2/
LOCATION:Klagenfurt-FBZ\, Waaggasse 18\, Klagenfurt\, Kärnten\, 9020\, Österreich
END:VEVENT
END:VCALENDAR