BEGIN:VCALENDAR
VERSION:2.0
PRODID:-//AAMM - ECPv6.10.2//NONSGML v1.0//EN
CALSCALE:GREGORIAN
METHOD:PUBLISH
X-ORIGINAL-URL:https://staging.aamm.at
X-WR-CALDESC:Veranstaltungen für AAMM
REFRESH-INTERVAL;VALUE=DURATION:PT1H
X-Robots-Tag:noindex
X-PUBLISHED-TTL:PT1H
BEGIN:VTIMEZONE
TZID:Europe/Vienna
BEGIN:DAYLIGHT
TZOFFSETFROM:+0100
TZOFFSETTO:+0200
TZNAME:CEST
DTSTART:20250330T010000
END:DAYLIGHT
BEGIN:STANDARD
TZOFFSETFROM:+0200
TZOFFSETTO:+0100
TZNAME:CET
DTSTART:20251026T010000
END:STANDARD
END:VTIMEZONE
BEGIN:VEVENT
DTSTART;TZID=Europe/Vienna:20250613T000000
DTEND;TZID=Europe/Vienna:20250615T235959
DTSTAMP:20260420T075158
CREATED:20240911T104240Z
LAST-MODIFIED:20250317T102140Z
UID:10000056-1749772800-1750031999@staging.aamm.at
SUMMARY:Kurs 1 / Bad Häring
DESCRIPTION:In diesem Kurs erlernen Sie unspezifische und sichere diagnostische und therapeutische Techniken zum erkennen von funktionellen Störungen an der Wirbelsäule. Außerdem werden Ihnen die notwendigen anatomischen und Neurophysiologischen Grundlagen vermittelt. Ab der ersten Stunde versuchen wir Praxis orientiert auch die theoretischen Inhalte zu vermitteln. Es werden die Techniken auch gleich gegenseitig geübt daher sollten Sie bei auf lockere sportliche Bekleidung achten.
URL:https://staging.aamm.at/event/kurs-1-bad-haering/
LOCATION:Bad Häring AUVA Rehazentrum\, Rehaweg 1\, Bad Häring\, 6323\, Österreich
END:VEVENT
BEGIN:VEVENT
DTSTART;TZID=Europe/Vienna:20250623T000000
DTEND;TZID=Europe/Vienna:20250629T235959
DTSTAMP:20260420T075158
CREATED:20240911T110215Z
LAST-MODIFIED:20250130T093156Z
UID:10000058-1750636800-1751241599@staging.aamm.at
SUMMARY:Kurs 2 / Graz
DESCRIPTION:In diesem Kurs erlernen Sie spezifische Techniken zur Behandlung der gesamten Wirbelsäule. Speziell Diagnostik und Therapie Pseudoradikulärer Symptome. Besonderes Augenmerk wird auf die funktionell Zusammenhänge und die zu Grunde liegenden Mechanismen gelegt.
URL:https://staging.aamm.at/event/kurs-2-graz-2/
LOCATION:Graz-Hotel Bokan\, Mainersbergstraße 1\, Graz\, 8051\, Österreich
END:VEVENT
BEGIN:VEVENT
DTSTART;TZID=Europe/Vienna:20250623T000000
DTEND;TZID=Europe/Vienna:20250629T235959
DTSTAMP:20260420T075158
CREATED:20240911T110747Z
LAST-MODIFIED:20241121T080707Z
UID:10000059-1750636800-1751241599@staging.aamm.at
SUMMARY:Kurs 3 / Klagenfurt
DESCRIPTION:In diesem Kurs erlernen Sie die Behandlung der oberen und unteren Extremitäten Gelenke. Regionen spezifische Schmerzphänomene werden besprochen. Zusätzlich sind die Segmentalen und funktionellen Zusammenhänge im gesamten Bewegungssystem erörtert deren Verständnis zur Rezidivprophylaxe notwendig ist.
URL:https://staging.aamm.at/event/kurs-3-klagenfurt/
LOCATION:Klagenfurt-FBZ\, Waaggasse 18\, Klagenfurt\, Kärnten\, 9020\, Österreich
END:VEVENT
END:VCALENDAR