BEGIN:VCALENDAR
VERSION:2.0
PRODID:-//AAMM - ECPv6.10.2//NONSGML v1.0//EN
CALSCALE:GREGORIAN
METHOD:PUBLISH
X-WR-CALNAME:AAMM
X-ORIGINAL-URL:https://staging.aamm.at
X-WR-CALDESC:Veranstaltungen für AAMM
REFRESH-INTERVAL;VALUE=DURATION:PT1H
X-Robots-Tag:noindex
X-PUBLISHED-TTL:PT1H
BEGIN:VTIMEZONE
TZID:Europe/Vienna
BEGIN:DAYLIGHT
TZOFFSETFROM:+0100
TZOFFSETTO:+0200
TZNAME:CEST
DTSTART:20250330T010000
END:DAYLIGHT
BEGIN:STANDARD
TZOFFSETFROM:+0200
TZOFFSETTO:+0100
TZNAME:CET
DTSTART:20251026T010000
END:STANDARD
END:VTIMEZONE
BEGIN:VEVENT
DTSTART;TZID=Europe/Vienna:20250125T000000
DTEND;TZID=Europe/Vienna:20250131T235959
DTSTAMP:20260420T160857
CREATED:20240910T172033Z
LAST-MODIFIED:20241213T082046Z
UID:10000044-1737763200-1738367999@staging.aamm.at
SUMMARY:Kurs 2 / Graz
DESCRIPTION:In diesem Kurs erlernen Sie spezifische Techniken zur Behandlung der gesamten Wirbelsäule. Speziell Diagnostik und Therapie Pseudoradikulärer Symptome. Besonderes Augenmerk wird auf die funktionell Zusammenhänge und die zu Grunde liegenden Mechanismen gelegt.
URL:https://staging.aamm.at/event/kurs-2-graz/
LOCATION:Graz-Hotel Bokan\, Mainersbergstraße 1\, Graz\, 8051\, Österreich
END:VEVENT
BEGIN:VEVENT
DTSTART;TZID=Europe/Vienna:20250130T000000
DTEND;TZID=Europe/Vienna:20250202T235959
DTSTAMP:20260420T160857
CREATED:20240911T131959Z
LAST-MODIFIED:20241121T150552Z
UID:10000076-1738195200-1738540799@staging.aamm.at
SUMMARY:Kurs B / Manuelle Medizin bei Kindern
DESCRIPTION:Ergänzend werden Sie im Kurs B der Craniomandibuläre Dysfunktion(CMD) unter besonderer Berücksichtigung der kindlichen Formen und Folgen widmen. Außerdem verhandeln wir die therapeutischen Möglichkeiten der Cerebral Parese (CP) und warum eine möglichst frühe Diagnose und Therapieeinleitung sinnvoll ist. Gerade diese Technik ist für die Therapie bei Kindern und speziell bei Säuglingen überaus hilfreich und notwendig.
URL:https://staging.aamm.at/event/kurs-b-manuelle-medizin-bei-kindern/
LOCATION:Bad Loipersdorf – Thermenhotel Stoiser\, An der Therme 153\, Bad Loipersdorf\, 8282\, Österreich
END:VEVENT
END:VCALENDAR